BEGIN:VCALENDAR
VERSION:2.0
PRODID:-//kcshepherdscenter.org//NONSGML kigkonsult.se iCalcreator 2.30.10/
 /
CALSCALE:GREGORIAN
METHOD:PUBLISH
UID:49c146e8-9de3-4ad2-bbc3-aa6982e71ac6
X-WR-CALDESC:Please join us for a special Holiday Tea as we celebrate the s
 eason and express our deepest gratitude for your incredible dedication and
  hard work throughout the year. Your contributions have made a significant
  difference\, and we would be honored to have your company.
X-WR-RELCALID:44e571ff79e851ffb9b198fbd7aa4982
X-WR-TIMEZONE:America/Chicago
BEGIN:VTIMEZONE
TZID:America/Chicago
BEGIN:STANDARD
TZNAME:CST
DTSTART:20251102T020000
TZOFFSETFROM:-0500
TZOFFSETTO:-0600
RDATE:20261101T020000
END:STANDARD
BEGIN:DAYLIGHT
TZNAME:CDT
DTSTART:20250309T020000
TZOFFSETFROM:-0600
TZOFFSETTO:-0500
RDATE:20260308T020000
RDATE:20270314T020000
END:DAYLIGHT
END:VTIMEZONE
BEGIN:VEVENT
UID:ac62357a-a4d0-4d5e-ae46-50d3789d99a5
DTSTAMP:20260421T204349Z
DESCRIPTION:Please join us for a special Holiday Tea as we celebrate the se
 ason and express our deepest gratitude for your incredible dedication and 
 hard work throughout the year. Your contributions have made a significant 
 difference\, and we would be honored to have your company.
DTSTART;TZID=America/Chicago:20251209T133000
DTEND;TZID=America/Chicago:20251209T153000
LOCATION:9200 Ward Parkway Suite 280 Kansas City MO 64114
SUMMARY:KCSC Volunteer Appreciation Tea
END:VEVENT
END:VCALENDAR
