BEGIN:VCALENDAR
VERSION:2.0
PRODID:-//kcshepherdscenter.org//NONSGML kigkonsult.se iCalcreator 2.30.10/
 /
CALSCALE:GREGORIAN
METHOD:PUBLISH
UID:dfddab80-5c25-4fb2-81a4-e416be141882
X-WR-CALDESC:Join us as we celebrate the season with friends\, food and a h
 oliday toast!\n
X-WR-RELCALID:39ef95626968da2a237f3c3731f15be5
X-WR-TIMEZONE:America/Chicago
BEGIN:VTIMEZONE
TZID:America/Chicago
BEGIN:STANDARD
TZNAME:CST
DTSTART:20251102T020000
TZOFFSETFROM:-0500
TZOFFSETTO:-0600
RDATE:20261101T020000
END:STANDARD
BEGIN:DAYLIGHT
TZNAME:CDT
DTSTART:20250309T020000
TZOFFSETFROM:-0600
TZOFFSETTO:-0500
RDATE:20260308T020000
RDATE:20270314T020000
END:DAYLIGHT
END:VTIMEZONE
BEGIN:VEVENT
UID:5e8bf49d-8260-4170-9a19-79e9a1eeccdc
DTSTAMP:20260421T204411Z
DESCRIPTION:Join us as we celebrate the season with friends\, food and a ho
 liday toast!\n
DTSTART;TZID=America/Chicago:20251210T150000
DTEND;TZID=America/Chicago:20251210T170000
LOCATION:9200 Ward Parkway Kansas City\, MO 64114 Suite 280
SUMMARY:70 Over 70 Alumni Association Holiday Gathering
END:VEVENT
END:VCALENDAR
