BEGIN:VCALENDAR
VERSION:2.0
PRODID:-//kcshepherdscenter.org//NONSGML kigkonsult.se iCalcreator 2.30.10/
 /
CALSCALE:GREGORIAN
METHOD:PUBLISH
UID:65fc1f01-e820-4f05-8819-e0d1f500c66e
X-WR-CALDESC:
X-WR-RELCALID:560197c808071f98fdd4b9665fbd7d43
X-WR-TIMEZONE:America/Chicago
BEGIN:VTIMEZONE
TZID:America/Chicago
BEGIN:STANDARD
TZNAME:CST
DTSTART:20251102T020000
TZOFFSETFROM:-0500
TZOFFSETTO:-0600
RDATE:20261101T020000
END:STANDARD
BEGIN:DAYLIGHT
TZNAME:CDT
DTSTART:20250309T020000
TZOFFSETFROM:-0600
TZOFFSETTO:-0500
RDATE:20260308T020000
RDATE:20270314T020000
END:DAYLIGHT
END:VTIMEZONE
BEGIN:VEVENT
UID:3aa6f952-0edd-4246-b983-5688b700c44e
DTSTAMP:20260421T205920Z
DESCRIPTION:
DTSTART;TZID=America/Chicago:20251211T170000
DTEND;TZID=America/Chicago:20251211T190000
LOCATION:9200 Ward Parkway\, Suite 280\, Kansas City\, MO 64114 US
SUMMARY:SAGE Table- KCSC LGBTQ+ Older Adult Coalition Holiday Gathering
END:VEVENT
END:VCALENDAR
