BEGIN:VCALENDAR
VERSION:2.0
PRODID:-//kcshepherdscenter.org//NONSGML kigkonsult.se iCalcreator 2.30.10/
 /
CALSCALE:GREGORIAN
METHOD:PUBLISH
UID:edd045c7-4fb4-4f65-891f-3a97d1ea79f1
X-WR-CALDESC:This is a Stand alone Class: \nBig Muddy National Fish and Wil
 dlife Refuge\n\nThe flood of 1993 destroyed the bottomland forest\, which 
 was the dominant habitat along the lower part of the Missouri River. Join 
 us to learn about this Refuge established in 1994 from St. Louis to Kansas
  City.\n\nToday a young growth of gallery forests covers several thousand 
 acres providing a habitat important to migratory songbirds and raptors as 
 well as many animals\, reptiles and amphibians. Tim Haller\, Visitor Servi
 ces Manager at US Fish and Wildlife Services\, will guide us in this journ
 ey concentrating on an area near Booneville called Jackass Bend.
X-WR-RELCALID:5ae1b10ac0cf3008ec969364488ef59a
X-WR-TIMEZONE:America/Chicago
BEGIN:VTIMEZONE
TZID:America/Chicago
BEGIN:STANDARD
TZNAME:CST
DTSTART:20251102T020000
TZOFFSETFROM:-0500
TZOFFSETTO:-0600
RDATE:20261101T020000
END:STANDARD
BEGIN:DAYLIGHT
TZNAME:CDT
DTSTART:20250309T020000
TZOFFSETFROM:-0600
TZOFFSETTO:-0500
RDATE:20260308T020000
RDATE:20270314T020000
END:DAYLIGHT
END:VTIMEZONE
BEGIN:VEVENT
UID:cff5d3df-db4e-4c54-bcfe-d251e18e8c98
DTSTAMP:20260421T232316Z
DESCRIPTION:This is a Stand alone Class: \nBig Muddy National Fish and Wild
 life Refuge\n\nThe flood of 1993 destroyed the bottomland forest\, which w
 as the dominant habitat along the lower part of the Missouri River. Join u
 s to learn about this Refuge established in 1994 from St. Louis to Kansas 
 City.\n\nToday a young growth of gallery forests covers several thousand a
 cres providing a habitat important to migratory songbirds and raptors as w
 ell as many animals\, reptiles and amphibians. Tim Haller\, Visitor Servic
 es Manager at US Fish and Wildlife Services\, will guide us in this journe
 y concentrating on an area near Booneville called Jackass Bend.
DTSTART;TZID=America/Chicago:20260109T110000
DTEND;TZID=America/Chicago:20260109T130000
LOCATION:Zoom-Online Event
SUMMARY:Adventures in Learning: Big Muddy National Fish and Wildlife Refuge
END:VEVENT
END:VCALENDAR
