BEGIN:VCALENDAR
VERSION:2.0
PRODID:-//kcshepherdscenter.org//NONSGML kigkonsult.se iCalcreator 2.30.10/
 /
CALSCALE:GREGORIAN
METHOD:PUBLISH
UID:685a0ef2-7274-4794-8d42-d1b89d1ea50b
X-WR-CALDESC:This is a Recurring Class:\n9:00 am - 9:50 am: Mind & Body Mec
 hanics with Judy Delphia\nJudy Delphia’s Mind and Body Mechanics class wil
 l be offered both in person and over Zoom. When our Spring Quarter starts 
 April 3rd\, we will resume in-person meetings.
X-WR-RELCALID:5fb572f4c0638d1f2b90641379280ce2
X-WR-TIMEZONE:America/Chicago
BEGIN:VTIMEZONE
TZID:America/Chicago
BEGIN:STANDARD
TZNAME:CST
DTSTART:20251102T020000
TZOFFSETFROM:-0500
TZOFFSETTO:-0600
RDATE:20261101T020000
END:STANDARD
BEGIN:DAYLIGHT
TZNAME:CDT
DTSTART:20250309T020000
TZOFFSETFROM:-0600
TZOFFSETTO:-0500
RDATE:20260308T020000
RDATE:20270314T020000
END:DAYLIGHT
END:VTIMEZONE
BEGIN:VEVENT
UID:4e77c3fd-a163-48b3-8207-81a6f413643a
DTSTAMP:20260421T222342Z
DESCRIPTION:This is a Recurring Class:\n9:00 am - 9:50 am: Mind & Body Mech
 anics with Judy Delphia\nJudy Delphia’s Mind and Body Mechanics class will
  be offered both in person and over Zoom. When our Spring Quarter starts A
 pril 3rd\, we will resume in-person meetings.
DTSTART;TZID=America/Chicago:20260116T090000
DTEND;TZID=America/Chicago:20260116T095000
LOCATION:Zoom-Online Event
SUMMARY:Adventures In Learning-  Mind & Body Mechanics
END:VEVENT
END:VCALENDAR
