BEGIN:VCALENDAR
VERSION:2.0
PRODID:-//kcshepherdscenter.org//NONSGML kigkonsult.se iCalcreator 2.30.10/
 /
CALSCALE:GREGORIAN
METHOD:PUBLISH
UID:351aec4b-95a8-464e-89fd-1227787bbc45
X-WR-CALDESC:This is a Stand alone Class:\nMuseum of Fine Arts\, Boston\nMo
 re than 100 galleries make up the Museum of Fine Arts. It is one of the to
 p things to do in Boston and is the 20th largest art museum in the world\,
  measured by the public gallery area. It is one of the most comprehensive 
 collections in the Americas and has over a million visitors each year. It 
 is affiliated with the School of Fine Arts at Tufts. Along with a history 
 and overview\, we hope to view work by VanGogh.
X-WR-RELCALID:66de2c21cf9fd3ea10731cd6984b1431
X-WR-TIMEZONE:America/Chicago
BEGIN:VTIMEZONE
TZID:America/Chicago
BEGIN:STANDARD
TZNAME:CST
DTSTART:20251102T020000
TZOFFSETFROM:-0500
TZOFFSETTO:-0600
RDATE:20261101T020000
END:STANDARD
BEGIN:DAYLIGHT
TZNAME:CDT
DTSTART:20250309T020000
TZOFFSETFROM:-0600
TZOFFSETTO:-0500
RDATE:20260308T020000
RDATE:20270314T020000
END:DAYLIGHT
END:VTIMEZONE
BEGIN:VEVENT
UID:35196ffd-b679-4121-ae14-276aeaa2b4da
DTSTAMP:20260421T222214Z
DESCRIPTION:This is a Stand alone Class:\nMuseum of Fine Arts\, Boston\nMor
 e than 100 galleries make up the Museum of Fine Arts. It is one of the top
  things to do in Boston and is the 20th largest art museum in the world\, 
 measured by the public gallery area. It is one of the most comprehensive c
 ollections in the Americas and has over a million visitors each year. It i
 s affiliated with the School of Fine Arts at Tufts. Along with a history a
 nd overview\, we hope to view work by VanGogh.
DTSTART;TZID=America/Chicago:20260116T110000
DTEND;TZID=America/Chicago:20260116T130000
LOCATION:Zoom-Online Event
SUMMARY:Adventures In Learning- Museum of Fine Arts\, Boston
END:VEVENT
END:VCALENDAR
