BEGIN:VCALENDAR
VERSION:2.0
PRODID:-//kcshepherdscenter.org//NONSGML kigkonsult.se iCalcreator 2.30.10/
 /
CALSCALE:GREGORIAN
METHOD:PUBLISH
UID:d19d46b5-92ee-4bf0-9c44-f1c1347ffc06
X-WR-CALDESC:This is a Recurring Class:\n9:00 am - 9:50 am: Mind & Body Mec
 hanics with Judy Delphia\nJudy Delphia’s Mind and Body Mechanics class wil
 l be offered both in person and over Zoom. When our Spring Quarter starts 
 April 3rd\, we will resume in-person meetings.
X-WR-RELCALID:fa38d306d51a96b7cde0c498154fada2
X-WR-TIMEZONE:America/Chicago
BEGIN:VTIMEZONE
TZID:America/Chicago
BEGIN:STANDARD
TZNAME:CST
DTSTART:20251102T020000
TZOFFSETFROM:-0500
TZOFFSETTO:-0600
RDATE:20261101T020000
END:STANDARD
BEGIN:DAYLIGHT
TZNAME:CDT
DTSTART:20250309T020000
TZOFFSETFROM:-0600
TZOFFSETTO:-0500
RDATE:20260308T020000
RDATE:20270314T020000
END:DAYLIGHT
END:VTIMEZONE
BEGIN:VEVENT
UID:c3d24186-2e82-46c6-b043-6fd1eb56cdbf
DTSTAMP:20260421T222414Z
DESCRIPTION:This is a Recurring Class:\n9:00 am - 9:50 am: Mind & Body Mech
 anics with Judy Delphia\nJudy Delphia’s Mind and Body Mechanics class will
  be offered both in person and over Zoom. When our Spring Quarter starts A
 pril 3rd\, we will resume in-person meetings.
DTSTART;TZID=America/Chicago:20260123T090000
DTEND;TZID=America/Chicago:20260123T095000
LOCATION:Zoom-Online Event
SUMMARY:Adventures In Learning-  Mind & Body Mechanics
END:VEVENT
END:VCALENDAR
