BEGIN:VCALENDAR
VERSION:2.0
PRODID:-//kcshepherdscenter.org//NONSGML kigkonsult.se iCalcreator 2.30.10/
 /
CALSCALE:GREGORIAN
METHOD:PUBLISH
UID:4a48a071-8bd1-4849-89d0-8778035f71d6
X-WR-CALDESC:This is a Recurring Class:\n10:00 am - 11:00 am: News and View
 s with Dick Ballentine\nDo you have views on the news? Join us for an inte
 ractive conversation about local\, national and international news. Share 
 your thoughts and hear what others have to say at our weekly current event
 s discussion\, led by Dick Ballentine.
X-WR-RELCALID:00e2c911e4168454d88ff08229acb9f8
X-WR-TIMEZONE:America/Chicago
BEGIN:VTIMEZONE
TZID:America/Chicago
BEGIN:STANDARD
TZNAME:CST
DTSTART:20251102T020000
TZOFFSETFROM:-0500
TZOFFSETTO:-0600
RDATE:20261101T020000
END:STANDARD
BEGIN:DAYLIGHT
TZNAME:CDT
DTSTART:20250309T020000
TZOFFSETFROM:-0600
TZOFFSETTO:-0500
RDATE:20260308T020000
RDATE:20270314T020000
END:DAYLIGHT
END:VTIMEZONE
BEGIN:VEVENT
UID:2d66ef12-5da8-403f-8ced-f5e75b7d842a
DTSTAMP:20260421T224522Z
DESCRIPTION:This is a Recurring Class:\n10:00 am - 11:00 am: News and Views
  with Dick Ballentine\nDo you have views on the news? Join us for an inter
 active conversation about local\, national and international news. Share y
 our thoughts and hear what others have to say at our weekly current events
  discussion\, led by Dick Ballentine.
DTSTART;TZID=America/Chicago:20260123T100000
DTEND;TZID=America/Chicago:20260123T110000
LOCATION:Zoom-Online Event
SUMMARY:Adventures In Learning- News and Views
END:VEVENT
END:VCALENDAR
