BEGIN:VCALENDAR
VERSION:2.0
PRODID:-//kcshepherdscenter.org//NONSGML kigkonsult.se iCalcreator 2.30.10/
 /
CALSCALE:GREGORIAN
METHOD:PUBLISH
UID:18e8c198-fea3-456e-939e-422a8026d422
X-WR-CALDESC:This is a Stand alone Class:\nThe John & Mable Ringling Museum
  of Art\n\nJoin us for a virtual tour of The John and Mable Ringling Museu
 m of Art\, led by Giovana Perez-Olivaras\, Arts & Health Program Coordinat
 or. We will explore its fascinating history\, cultural legacy in Sarasota\
 , Florida\, and masterpieces from the museum's permanent collection. Highl
 ights include Peter Paul Rubens\, Triumph of the Eucharist\, John Ringling
 's bronze David and other works by the Old Masters. Discover art that educ
 ates\, inspires\, and entertains.
X-WR-RELCALID:ab13cf17b3882f91ed1cf9bb0c8868ec
X-WR-TIMEZONE:America/Chicago
BEGIN:VTIMEZONE
TZID:America/Chicago
BEGIN:STANDARD
TZNAME:CST
DTSTART:20251102T020000
TZOFFSETFROM:-0500
TZOFFSETTO:-0600
RDATE:20261101T020000
END:STANDARD
BEGIN:DAYLIGHT
TZNAME:CDT
DTSTART:20250309T020000
TZOFFSETFROM:-0600
TZOFFSETTO:-0500
RDATE:20260308T020000
RDATE:20270314T020000
END:DAYLIGHT
END:VTIMEZONE
BEGIN:VEVENT
UID:78b893d8-c6c1-46e0-9e3c-53c381b805bd
DTSTAMP:20260421T222055Z
DESCRIPTION:This is a Stand alone Class:\nThe John & Mable Ringling Museum 
 of Art\n\nJoin us for a virtual tour of The John and Mable Ringling Museum
  of Art\, led by Giovana Perez-Olivaras\, Arts & Health Program Coordinato
 r. We will explore its fascinating history\, cultural legacy in Sarasota\,
  Florida\, and masterpieces from the museum's permanent collection. Highli
 ghts include Peter Paul Rubens\, Triumph of the Eucharist\, John Ringling'
 s bronze David and other works by the Old Masters. Discover art that educa
 tes\, inspires\, and entertains.
DTSTART;TZID=America/Chicago:20260123T110000
DTEND;TZID=America/Chicago:20260123T130000
LOCATION:Online via Zoom
SUMMARY:Adventures In Learning- The John & Mable Ringling Museum of Art
END:VEVENT
END:VCALENDAR
