BEGIN:VCALENDAR
VERSION:2.0
PRODID:-//kcshepherdscenter.org//NONSGML kigkonsult.se iCalcreator 2.30.10/
 /
CALSCALE:GREGORIAN
METHOD:PUBLISH
UID:360b3afb-1348-4115-91a1-510d1bb8263f
X-WR-CALDESC:Click the link to register!
X-WR-RELCALID:491626199276960ae6ae59c74bcd40ae
X-WR-TIMEZONE:America/Chicago
BEGIN:VTIMEZONE
TZID:America/Chicago
BEGIN:STANDARD
TZNAME:CST
DTSTART:20251102T020000
TZOFFSETFROM:-0500
TZOFFSETTO:-0600
RDATE:20261101T020000
END:STANDARD
BEGIN:DAYLIGHT
TZNAME:CDT
DTSTART:20250309T020000
TZOFFSETFROM:-0600
TZOFFSETTO:-0500
RDATE:20260308T020000
RDATE:20270314T020000
END:DAYLIGHT
END:VTIMEZONE
BEGIN:VEVENT
UID:ef77dbee-7be9-4a1a-a637-f4fb4c410f97
DTSTAMP:20260421T222503Z
DESCRIPTION:Click the link to register!
DTSTART;TZID=America/Chicago:20260127T100000
DTEND;TZID=America/Chicago:20260127T120000
LOCATION:https://www.missouriship.org/events/passport-into-retirement/
SUMMARY:Chart Your Course to Retirement
END:VEVENT
END:VCALENDAR
