BEGIN:VCALENDAR
VERSION:2.0
PRODID:-//kcshepherdscenter.org//NONSGML kigkonsult.se iCalcreator 2.30.10/
 /
CALSCALE:GREGORIAN
METHOD:PUBLISH
UID:fd6f0896-42bd-47a6-8157-400ead9c992e
X-WR-CALDESC:This is a Stand Alone Event:\nWilliam J. Clinton Presidential 
 Library\n\nThe library has three floors. Permanent exhibit highlights incl
 ude the presidential limo\, an Oval Office replica\, and reminders of some
  memorable visitors. One temporary exhibit is of the Portraits of Presiden
 t Clinton. He was the 42nd President of the United States of America and s
 erved from 1993-2001.
X-WR-RELCALID:7efce1addacc1c2060c91e53e452f566
X-WR-TIMEZONE:America/Chicago
BEGIN:VTIMEZONE
TZID:America/Chicago
BEGIN:STANDARD
TZNAME:CST
DTSTART:20251102T020000
TZOFFSETFROM:-0500
TZOFFSETTO:-0600
RDATE:20261101T020000
END:STANDARD
BEGIN:DAYLIGHT
TZNAME:CDT
DTSTART:20250309T020000
TZOFFSETFROM:-0600
TZOFFSETTO:-0500
RDATE:20260308T020000
RDATE:20270314T020000
END:DAYLIGHT
END:VTIMEZONE
BEGIN:VEVENT
UID:64adcfba-b47b-4225-b8e5-886bb41f91d8
DTSTAMP:20260421T223450Z
DESCRIPTION:This is a Stand Alone Event:\nWilliam J. Clinton Presidential L
 ibrary\n\nThe library has three floors. Permanent exhibit highlights inclu
 de the presidential limo\, an Oval Office replica\, and reminders of some 
 memorable visitors. One temporary exhibit is of the Portraits of President
  Clinton. He was the 42nd President of the United States of America and se
 rved from 1993-2001.
DTSTART;TZID=America/Chicago:20260130T110000
DTEND;TZID=America/Chicago:20260130T130000
LOCATION:Online via Zoom
SUMMARY:Adventures In Learning- William J. Clinton Presidential Library
END:VEVENT
END:VCALENDAR
