BEGIN:VCALENDAR
VERSION:2.0
PRODID:-//kcshepherdscenter.org//NONSGML kigkonsult.se iCalcreator 2.30.10/
 /
CALSCALE:GREGORIAN
METHOD:PUBLISH
UID:d1444efd-3eb2-4aef-a853-445738e8be7b
X-WR-CALDESC:Enjoy a day filled with culture\, history\, and connection as 
 we visit the Johnson County Arts and Heritage Museum. Explore engaging exh
 ibits that showcase the rich stories\, art\, and traditions of the region 
 while learning more about the community that surrounds us. We will also ga
 ther for a relaxing lunch in the space!
X-WR-RELCALID:3e03997c9455dc2f95fcf54a7750a5ee
X-WR-TIMEZONE:America/Chicago
BEGIN:VTIMEZONE
TZID:America/Chicago
BEGIN:STANDARD
TZNAME:CST
DTSTART:20251102T020000
TZOFFSETFROM:-0500
TZOFFSETTO:-0600
RDATE:20261101T020000
END:STANDARD
BEGIN:DAYLIGHT
TZNAME:CDT
DTSTART:20260308T020000
TZOFFSETFROM:-0600
TZOFFSETTO:-0500
RDATE:20270314T020000
END:DAYLIGHT
END:VTIMEZONE
BEGIN:VEVENT
UID:b04e2289-1548-4d15-b516-6929c61c7947
DTSTAMP:20260422T112849Z
DESCRIPTION:Enjoy a day filled with culture\, history\, and connection as w
 e visit the Johnson County Arts and Heritage Museum. Explore engaging exhi
 bits that showcase the rich stories\, art\, and traditions of the region w
 hile learning more about the community that surrounds us. We will also gat
 her for a relaxing lunch in the space!
DTSTART;TZID=America/Chicago:20260325T050000
DTEND;TZID=America/Chicago:20260325T050001
LOCATION:8788 Metcalf Ave\, Overland Park\, KS 66212
SUMMARY:Roadtrippers- Johnson County Arts and Heritage Museum Tour
END:VEVENT
END:VCALENDAR
