BEGIN:VCALENDAR
VERSION:2.0
PRODID:-//kcshepherdscenter.org//NONSGML kigkonsult.se iCalcreator 2.30.10/
 /
CALSCALE:GREGORIAN
METHOD:PUBLISH
UID:92ab5cb6-5b7c-47e8-9f7f-a0b971442657
X-WR-CALDESC:FREE presentation on driving safety Topics covered include:\n
 \nânâ How to stay medically and physically fit to drive\n\nâ€˘ When and how to
  prepare for driving retirement\n\nâ€˘ Tools and resources to help keep you 
 safe on the road
X-WR-RELCALID:bdaea9466a212fb4d160fa306785c129
X-WR-TIMEZONE:America/Chicago
BEGIN:VTIMEZONE
TZID:America/Chicago
BEGIN:STANDARD
TZNAME:CST
DTSTART:20251102T020000
TZOFFSETFROM:-0500
TZOFFSETTO:-0600
RDATE:20261101T020000
END:STANDARD
BEGIN:DAYLIGHT
TZNAME:CDT
DTSTART:20260308T020000
TZOFFSETFROM:-0600
TZOFFSETTO:-0500
RDATE:20270314T020000
END:DAYLIGHT
END:VTIMEZONE
BEGIN:VEVENT
UID:48453b64-1232-4bdd-ab4c-95fac1bcc4a0
DTSTAMP:20260422T091825Z
DESCRIPTION:FREE presentation on driving safety Topics covered include:\n\n
 â€˘ How to stay medically and physically fit to drive\n\nâ€˘ When and how to p
 repare for driving retirement\n\nâ€˘ Tools and resources to help keep you sa
 fe on the road
DTSTART;TZID=America/Chicago:20260408T100000
DTEND;TZID=America/Chicago:20260408T113000
LOCATION:9200 Ward Parkway\, Kansas City\, MO 64114 US
SUMMARY:Keep your Keys
END:VEVENT
END:VCALENDAR
