BEGIN:VCALENDAR
VERSION:2.0
PRODID:-//kcshepherdscenter.org//NONSGML kigkonsult.se iCalcreator 2.30.10/
 /
CALSCALE:GREGORIAN
METHOD:PUBLISH
UID:f3722ec4-821b-475e-96ab-65eb5733c6a5
X-WR-CALDESC:Presentation on driving safety!
X-WR-RELCALID:33004e1374b68fc7c7dd5e49b39af010
X-WR-TIMEZONE:America/Chicago
BEGIN:VTIMEZONE
TZID:America/Chicago
BEGIN:STANDARD
TZNAME:CST
DTSTART:20251102T020000
TZOFFSETFROM:-0500
TZOFFSETTO:-0600
RDATE:20261101T020000
END:STANDARD
BEGIN:DAYLIGHT
TZNAME:CDT
DTSTART:20260308T020000
TZOFFSETFROM:-0600
TZOFFSETTO:-0500
RDATE:20270314T020000
END:DAYLIGHT
END:VTIMEZONE
BEGIN:VEVENT
UID:403d69ae-106a-4d9f-8628-cc68fb3b4390
DTSTAMP:20260422T091808Z
DESCRIPTION:Presentation on driving safety!
DTSTART;TZID=America/Chicago:20260408T100000
DTEND;TZID=America/Chicago:20260408T120000
LOCATION:9200 Ward Parkway\, Kansas City\, AL 64114 US
SUMMARY:Keep Your Keys
END:VEVENT
END:VCALENDAR
