BEGIN:VCALENDAR
VERSION:2.0
PRODID:-//kcshepherdscenter.org//NONSGML kigkonsult.se iCalcreator 2.30.10/
 /
CALSCALE:GREGORIAN
METHOD:PUBLISH
UID:408869c3-b3e2-426a-afff-28c71e911609
X-WR-CALDESC:CarFit is a free\, interactive\, and educational program desig
 ned to improve older driver safety. During the event\, trained volunteers 
 worked with participants to help ensure the safest 'fit' between drivers a
 nd their vehicles\, making adjustments and offering personalized recommend
 ations.\n
X-WR-RELCALID:b92fa8a75172c9cd9c21af66637f0034
X-WR-TIMEZONE:America/Chicago
BEGIN:VTIMEZONE
TZID:America/Chicago
BEGIN:STANDARD
TZNAME:CST
DTSTART:20251102T020000
TZOFFSETFROM:-0500
TZOFFSETTO:-0600
RDATE:20261101T020000
END:STANDARD
BEGIN:DAYLIGHT
TZNAME:CDT
DTSTART:20260308T020000
TZOFFSETFROM:-0600
TZOFFSETTO:-0500
RDATE:20270314T020000
END:DAYLIGHT
END:VTIMEZONE
BEGIN:VEVENT
UID:3b77ae8c-4734-42ee-af8e-534e3059ab5f
DTSTAMP:20260422T091900Z
DESCRIPTION:CarFit is a free\, interactive\, and educational program design
 ed to improve older driver safety. During the event\, trained volunteers w
 orked with participants to help ensure the safest 'fit' between drivers an
 d their vehicles\, making adjustments and offering personalized recommenda
 tions.\n
DTSTART;TZID=America/Chicago:20260422T100000
DTEND;TZID=America/Chicago:20260422T140000
LOCATION:9200 Ward Parkway\, Kansas City\, MO 64114 US
SUMMARY:CarFit
END:VEVENT
END:VCALENDAR
