BEGIN:VCALENDAR
VERSION:2.0
PRODID:-//kcshepherdscenter.org//NONSGML kigkonsult.se iCalcreator 2.30.10/
 /
CALSCALE:GREGORIAN
METHOD:PUBLISH
UID:5e5397b9-0322-47b4-88dc-64619cea4243
X-WR-CALDESC:CarFit is a free\, interactive and educational program designe
 d to \nimprove older driver safety. Trained volunteers provide information
  \nto ensure the safest “fit” for older drivers and their vehicles
X-WR-RELCALID:d8ca58e43f8d9c19d4948395701643d6
X-WR-TIMEZONE:America/Chicago
BEGIN:VTIMEZONE
TZID:America/Chicago
BEGIN:STANDARD
TZNAME:CST
DTSTART:20251102T020000
TZOFFSETFROM:-0500
TZOFFSETTO:-0600
RDATE:20261101T020000
END:STANDARD
BEGIN:DAYLIGHT
TZNAME:CDT
DTSTART:20260308T020000
TZOFFSETFROM:-0600
TZOFFSETTO:-0500
RDATE:20270314T020000
END:DAYLIGHT
END:VTIMEZONE
BEGIN:VEVENT
UID:28b22122-7524-4dca-88d7-25c32a4503ab
DTSTAMP:20260422T091900Z
DESCRIPTION:CarFit is a free\, interactive and educational program designed
  to \nimprove older driver safety. Trained volunteers provide information 
 \nto ensure the safest “fit” for older drivers and their vehicles
DTSTART;TZID=America/Chicago:20260422T100000
DTEND;TZID=America/Chicago:20260422T140000
LOCATION:9200 Ward Parkway\, Kansas City\, MO 64114 US
SUMMARY:CarFiT
END:VEVENT
END:VCALENDAR
