BEGIN:VCALENDAR
VERSION:2.0
PRODID:-//kcshepherdscenter.org//NONSGML kigkonsult.se iCalcreator 2.30.10/
 /
CALSCALE:GREGORIAN
METHOD:PUBLISH
UID:a17bd5af-9ccf-4440-9f87-bb34efae15e5
X-WR-CALDESC:Explore company resource tables to receive important informati
 on/giveaways
X-WR-RELCALID:4f23561a8c4264d1f0f8a4fe51269d23
X-WR-TIMEZONE:America/Chicago
BEGIN:VTIMEZONE
TZID:America/Chicago
BEGIN:STANDARD
TZNAME:CST
DTSTART:20251102T020000
TZOFFSETFROM:-0500
TZOFFSETTO:-0600
RDATE:20261101T020000
END:STANDARD
BEGIN:DAYLIGHT
TZNAME:CDT
DTSTART:20260308T020000
TZOFFSETFROM:-0600
TZOFFSETTO:-0500
RDATE:20270314T020000
END:DAYLIGHT
END:VTIMEZONE
BEGIN:VEVENT
UID:2ef32085-0045-498c-9036-4cad13019003
DTSTAMP:20260422T092120Z
DESCRIPTION:Explore company resource tables to receive important informatio
 n/giveaways
DTSTART;TZID=America/Chicago:20260423T090000
DTEND;TZID=America/Chicago:20260423T120000
LOCATION:St. Joseph Medical Center Medical Mall 1000 Carondelet Kansas City
 \, MO
SUMMARY:Golden Expo
END:VEVENT
END:VCALENDAR
