BEGIN:VCALENDAR
VERSION:2.0
PRODID:-//kcshepherdscenter.org//NONSGML kigkonsult.se iCalcreator 2.30.10/
 /
CALSCALE:GREGORIAN
METHOD:PUBLISH
UID:6d2bf469-fa29-40fc-a64a-ad8759225ebc
X-WR-CALDESC:
X-WR-RELCALID:ec392dc6a30cbf4b91eb6a0f3d67711d
X-WR-TIMEZONE:America/Chicago
BEGIN:VTIMEZONE
TZID:America/Chicago
BEGIN:STANDARD
TZNAME:CST
DTSTART:20251102T020000
TZOFFSETFROM:-0500
TZOFFSETTO:-0600
RDATE:20261101T020000
END:STANDARD
BEGIN:DAYLIGHT
TZNAME:CDT
DTSTART:20260308T020000
TZOFFSETFROM:-0600
TZOFFSETTO:-0500
RDATE:20270314T020000
END:DAYLIGHT
END:VTIMEZONE
BEGIN:VEVENT
UID:edff8260-205b-4a20-b2cf-0ee64b65b6b1
DTSTAMP:20260422T092127Z
DESCRIPTION:
DTSTART;TZID=America/Chicago:20260423T140000
DTEND;TZID=America/Chicago:20260423T160000
LOCATION:9200 Ward Parkway\, Suite 280\, Kansas City\, MO 64114 US
SUMMARY:Volunteer Appreciation Tea
END:VEVENT
END:VCALENDAR
